Workbook

Sheet Strategies 
A1: EX050 Component history & Strategies
A2: MaintItem | B2: MaintenancePlan | C2: MaintItem text | D2: Functional Loc. | E2: Description | F2: Cycles and Units | G2: Component Hours | H2: Componet Life % | I2: Comments
A3: 1000146480 | B3: 600104685 | C3: DR241 Engine QSK23 Changeout | D3: SOL-MP-DRLL-DR241 -ENGINE | E3: Engine Assembly Cummins QSK23 | F3: 15000 | G3: =IFERROR(VLOOKUP(D3,'IK17'!C:H,6,FALSE),"") -> 24262 | H3: =G3/F3 -> 1.6174667
A4: 1000146481 | B4: 600104685 | C4: DR241 Engine Water Pump - Replace | D4: SOL-MP-DRLL-DR241 -ENGINE-COSYS-WTRPP | E4: Engine Water Pump | F4: 15000 | G4: =IFERROR(VLOOKUP(D4,'IK17'!C:H,6,FALSE),"") -> 10901 | H4: =G4/F4 -> 0.72673333
A5: 1000146482 | B5: 600104685 | C5: DR241 Engine Regulator - Replace | D5: SOL-MP-DRLL-DR241 -ENGINE-COSYS-THERM | E5: Thermostats & Regulators | F5: 15000 | G5: =IFERROR(VLOOKUP(D5,'IK17'!C:H,6,FALSE),"") -> 17748 | H5: =G5/F5 -> 1.1832
A6: 1000146483 | B6: 600104685 | C6: DR241 Turbocharger - Replace | D6: SOL-MP-DRLL-DR241 -ENGINE-INTEX-TURBO | E6: Turbocharger | F6: 15000 | G6: =IFERROR(VLOOKUP(D6,'IK17'!C:H,6,FALSE),"") -> 11235 | H6: =G6/F6 -> 0.749
A7: 1000146484 | B7: 600104685 | C7: DR241 Fuel Injectors - Replace | D7: SOL-MP-DRLL-DR241 -ENGINE-FUSYS-FUINJ | E7: Fuel Injectors | F7: 15000 | G7: =IFERROR(VLOOKUP(D7,'IK17'!C:H,6,FALSE),"") -> 11235 | H7: =G7/F7 -> 0.749
A8: 1000146485 | B8: 600104685 | C8: DR241 Charging Alternator - Replace | D8: SOL-MP-DRLL-DR241 -ELCTLV-CHARG-ALTER | E8: Alternator 24V Engine | F8: 15000 | G8: =IFERROR(VLOOKUP(D8,'IK17'!C:H,6,FALSE),"") -> 11737 | H8: =G8/F8 -> 0.78246667
A9: 1000146487 | B9: 600104685 | C9: DR241 7500hr Valve Set | D9: SOL-MP-DRLL-DR241 -ENGINE | E9: Engine Assembly Cummins QSK23 | F9: 15000 | G9: =IFERROR(VLOOKUP(D9,'IK17'!C:H,6,FALSE),"") -> 24262 | H9: =G9/F9 -> 1.6174667
A10: 1000146488 | B10: 600104685 | C10: DR241 Engine Midlife complete | D10: SOL-MP-DRLL-DR241 -ENGINE | E10: Engine Assembly Cummins QSK23 | F10: 15000 | G10: =IFERROR(VLOOKUP(D10,'IK17'!C:H,6,FALSE),"") -> 24262 | H10: =G10/F10 -> 1.6174667
A11: 1000146489 | B11: 600104686 | C11: DR241 Radiator Assy CW CAC | D11: SOL-MP-DRLL-DR241 -ENGINE-COSYS-RADTR | E11: Radiator Engine Cooling | F11: 15000 | G11: =IFERROR(VLOOKUP(D11,'IK17'!C:H,6,FALSE),"") -> 9750 | H11: =G11/F11 -> 0.65
A12: 1000146490 | B12: 600104687 | C12: DR241 Fuel Cooler | D12: SOL-MP-DRLL-DR241 -ENGINE-FUSYS-FULCO | E12: Engine Fuel Cooler | F12: 15000 | G12: =IFERROR(VLOOKUP(D12,'IK17'!C:H,6,FALSE),"") -> 12985 | H12: =G12/F12 -> 0.86566667
A13: 1000146491 | B13: 600104688 | C13: DR241 Final Drive LH | D13: SOL-MP-DRLL-DR241 -TRAVEL-FDRLH | E13: Final Drive Cab Side | F13: 20000 | G13: =IFERROR(VLOOKUP(D13,'IK17'!C:H,6,FALSE),"") -> 5694 | H13: =G13/F13 -> 0.2847
A14: 1000146492 | B14: 600104689 | C14: DR241 Final Drive RH | D14: SOL-MP-DRLL-DR241 -TRAVEL-FDRRH | E14: Final Drive Non Cab Side | F14: 20000 | G14: =IFERROR(VLOOKUP(D14,'IK17'!C:H,6,FALSE),"") -> 11346 | H14: =G14/F14 -> 0.5673
... A63: 1000146551 | B63: 600104768 | C63: DR241 Mast Swing Joint | D63: SOL-MP-DRLL-DR241 -STRUCT-BOOMS-BMKNU | E63: Boom Knuckle Assembly | F63: 6000 | G63: =IFERROR(VLOOKUP(D63,'IK17'!C:H,6,FALSE),"") -> 9750 | H63: =G63/F63 -> 1.625

Sheet IK17
A1: 500052601 | B1: 134703524 | C1: SOL-MP-DRLL-DR241 | D1: Sandvik DR580 Drill, DR241 | F1: 34700 | G1: h | H1: 7065 | I1: 4600
A2: 500052602 | B2: 134703525 | C2: SOL-MP-DRLL-DR241 | D2: DR241 Lube & Mechanical Services | E2: 500052601 | F2: 36010 | G2: h | H2: 36010 | I2: 4600
A3: 500053134 | B3: 47348886 | C3: SOL-MP-DRLL-DR241 | D3: obsolete | E3: 500052601 | F3: 10455 | G3: h | H3: 10455 | I3: 4600
A4: 500053135 | B4: 47348887 | C4: SOL-MP-DRLL-DR241 | D4: obsolete | E4: 500052601 | F4: 10455 | G4: h | H4: 10455 | I4: 4600
A5: 500053136 | B5: 47348888 | C5: SOL-MP-DRLL-DR241 | D5: obsolete | E5: 500052601 | F5: 10455 | G5: h | H5: 10455 | I5: 4600
A6: 500053137 | B6: 47348889 | C6: SOL-MP-DRLL-DR241 | D6: obsolete | E6: 500052601 | F6: 10455 | G6: h | H6: 10455 | I6: 4600
A7: 500053138 | B7: 47348890 | C7: SOL-MP-DRLL-DR241 | D7: obsolete | E7: 500052601 | F7: 10455 | G7: h | H7: 10455 | I7: 4600
A8: 500053139 | B8: 47348891 | C8: SOL-MP-DRLL-DR241 | D8: obsolete | E8: 500052601 | F8: 10455 | G8: h | H8: 10455 | I8: 4600
A9: 500053140 | B9: 47348892 | C9: SOL-MP-DRLL-DR241 | D9: obsolete | E9: 500052601 | F9: 10455 | G9: h | H9: 10455 | I9: 4600
A10: 500053141 | B10: 47348893 | C10: SOL-MP-DRLL-DR241 | D10: obsolete | E10: 500052601 | F10: 10455 | G10: h | H10: 10455 | I10: 4600
A11: 500053142 | B11: 47348894 | C11: SOL-MP-DRLL-DR241 | D11: obsolete | E11: 500052601 | F11: 10455 | G11: h | H11: 10455 | I11: 4600
A12: 500053143 | B12: 47348895 | C12: SOL-MP-DRLL-DR241 | D12: obsolete | E12: 500052601 | F12: 10455 | G12: h | H12: 10455 | I12: 4600
A13: 500053144 | B13: 47348896 | C13: SOL-MP-DRLL-DR241 | D13: obsolete | E13: 500052601 | F13: 10455 | G13: h | H13: 10455 | I13: 4600
A14: 500053145 | B14: 47348897 | C14: SOL-MP-DRLL-DR241 | D14: obsolete | E14: 500052601 | F14: 10455 | G14: h | H14: 10455 | I14: 4600
... A90: 500098701 | B90: 134703652 | C90: SOL-MP-DRLL-DR241 -TRAVEL-FDRRH | D90: DR241 Final Drive R/H | E90: 500052601 | F90: 34700 | G90: h | H90: 11346 | I90: 4600
