Workbook
Name DATA1: 'IP17'!$A$2:$A$100
Name DATA10: 'IP17'!#REF!
Name DATA11: 'IP17'!$H$2:$H$100
Name DATA12: 'IP17'!#REF!
Name DATA13: 'IP17'!#REF!
Name DATA2: 'IP17'!$B$2:$B$100
Name DATA3: 'IP17'!$C$2:$C$100
Name DATA4: 'IP17'!$D$2:$D$100
Name DATA5: 'IP17'!$E$2:$E$100
Name DATA6: 'IP17'!$F$2:$F$100
Name DATA7: 'IP17'!#REF!
Name DATA8: 'IP17'!$G$2:$G$100
Name DATA9: 'IP17'!#REF!
Name TEST0: 'IP17'!$A$2:$H$100
Name TESTHKEY: 'IP17'!$B$1:$H$1
Name TESTKEYS: 'IP17'!$A$2:$A$100
Name TESTVKEY: 'IP17'!$A$1

Sheet IP17
A1: Functional Loc. | B1: MaintItem text | C1: MaintenancePlan | D1: MaintItem | E1: Group | F1: Group Counter | G1: Sort Field | H1: Cycle Descriptions | I1: Meas/TotCtrRdg | J1: Counter reading | K1: Component Life
A2: SOL-MP-DRLL-DR203 -ENGINE | B2: DR203 Replace Cummins QST30 Engine | C2: 600070446 | D2: 1000100173 | E2: 90011999 | F2: C1 | G2: DR203 | H2: 16000 | I2: =IFERROR(VLOOKUP(A2,'IK17'!A:C,3,0),"") -> 50546 | J2: =IFERROR(VLOOKUP(A2,'IK17'!A:D,4,0),"") -> 14460 | K2: =IFERROR(J2/H2,"") -> 0.90375
A3: SOL-MP-DRLL-DR203 -ENGINE-COSYS-WTRPP | B3: DR203 Replace Engine Water pump | C3: 600070446 | D3: 1000100174 | E3: 90012001 | F3: C1 | G3: DR203 | H3: 8000 | I3: =IFERROR(VLOOKUP(A3,'IK17'!A:C,3,0),"") | J3: =IFERROR(VLOOKUP(A3,'IK17'!A:D,4,0),"") | K3: =IFERROR(J3/H3,"")
A4: SOL-MP-DRLL-DR203 -ENGINE-COSYS-THERM | B4: DR203 Replace Engine Regulator | C4: 600070446 | D4: 1000100175 | E4: 90012002 | F4: C1 | G4: DR203 | H4: 8000 | I4: =IFERROR(VLOOKUP(A4,'IK17'!A:C,3,0),"") -> 50531 | J4: =IFERROR(VLOOKUP(A4,'IK17'!A:D,4,0),"") -> 5418 | K4: =IFERROR(J4/H4,"") -> 0.67725
A5: SOL-MP-DRLL-DR203 -ENGINE-INTEX-TBOP1 | B5: DR203 Replace Turbo L/H | C5: 600070446 | D5: 1000100176 | E5: 90012003 | F5: C1 | G5: DR203 | H5: 8000 | I5: =IFERROR(VLOOKUP(A5,'IK17'!A:C,3,0),"") -> 50531 | J5: =IFERROR(VLOOKUP(A5,'IK17'!A:D,4,0),"") -> 5463 | K5: =IFERROR(J5/H5,"") -> 0.682875
A6: SOL-MP-DRLL-DR203 -ENGINE-INTEX-TBOP2 | B6: DR203 Replace Turbo R/H | C6: 600070446 | D6: 1000100177 | E6: 90012003 | F6: C1 | G6: DR203 | H6: 8000 | I6: =IFERROR(VLOOKUP(A6,'IK17'!A:C,3,0),"") -> 50531 | J6: =IFERROR(VLOOKUP(A6,'IK17'!A:D,4,0),"") -> 5463 | K6: =IFERROR(J6/H6,"") -> 0.682875
A7: SOL-MP-DRLL-DR203 -ENGINE-FUSYS-FUINJ | B7: DR203 Replace Fuel Injectors | C7: 600070446 | D7: 1000100178 | E7: 90012007 | F7: C1 | G7: DR203 | H7: 8000 | I7: =IFERROR(VLOOKUP(A7,'IK17'!A:C,3,0),"") -> 50531 | J7: =IFERROR(VLOOKUP(A7,'IK17'!A:D,4,0),"") -> 5418 | K7: =IFERROR(J7/H7,"") -> 0.67725
A8: SOL-MP-DRLL-DR203 -ELCTLV-CHARG-ALTER | B8: DR203 Replace Alternator 24V | C8: 600070446 | D8: 1000100179 | E8: 90012008 | F8: C1 | G8: DR203 | H8: 8000 | I8: =IFERROR(VLOOKUP(A8,'IK17'!A:C,3,0),"") -> 50531 | J8: =IFERROR(VLOOKUP(A8,'IK17'!A:D,4,0),"") -> 5429 | K8: =IFERROR(J8/H8,"") -> 0.678625
A9: SOL-MP-DRLL-DR203 -ELCTLV-START-STMLH | B9: DR203 Replace L/H Starter Motor | C9: 600070446 | D9: 1000100180 | E9: 90012010 | F9: C1 | G9: DR203 | H9: 4000 | I9: =IFERROR(VLOOKUP(A9,'IK17'!A:C,3,0),"") -> 50531 | J9: =IFERROR(VLOOKUP(A9,'IK17'!A:D,4,0),"") -> 11291 | K9: =IFERROR(J9/H9,"") -> 2.82275
A10: SOL-MP-DRLL-DR203 -ELCTLV-START-STMRH | B10: DR203 Replace R/H Starter Motor | C10: 600070446 | D10: 1000100181 | E10: 90012011 | F10: C1 | G10: DR203 | H10: 4000 | I10: =IFERROR(VLOOKUP(A10,'IK17'!A:C,3,0),"") -> 50531 | J10: =IFERROR(VLOOKUP(A10,'IK17'!A:D,4,0),"") -> 11291 | K10: =IFERROR(J10/H10,"") -> 2.82275
A11: SOL-MP-DRLL-DR203 -TRAVEL-FDRLH | B11: DR203 Replace Final DriveNon Cab Side | C11: 600070447 | D11: 1000100182 | E11: 90012012 | F11: C1 | G11: DR203 | H11: 16000 | I11: =IFERROR(VLOOKUP(A11,'IK17'!A:C,3,0),"") -> 50546 | J11: =IFERROR(VLOOKUP(A11,'IK17'!A:D,4,0),"") -> 5451 | K11: =IFERROR(J11/H11,"") -> 0.3406875
A12: SOL-MP-DRLL-DR203 -TRAVEL-FDRRH | B12: DR203 Replace Final Drive Cab Side | C12: 600070448 | D12: 1000100183 | E12: 90012012 | F12: C1 | G12: DR203 | H12: 16000 | I12: =IFERROR(VLOOKUP(A12,'IK17'!A:C,3,0),"") -> 50546 | J12: =IFERROR(VLOOKUP(A12,'IK17'!A:D,4,0),"") -> 5451 | K12: =IFERROR(J12/H12,"") -> 0.3406875
A13: SOL-MP-DRLL-DR203 -TRAVEL-TRBKL | B13: DR203 Repl Travel Brake Non Cab Side | C13: 600070449 | D13: 1000100184 | E13: 90012015 | F13: C1 | G13: DR203 | H13: 16000 | I13: =IFERROR(VLOOKUP(A13,'IK17'!A:C,3,0),"") -> 50546 | J13: =IFERROR(VLOOKUP(A13,'IK17'!A:D,4,0),"") -> 5451 | K13: =IFERROR(J13/H13,"") -> 0.3406875
... A16: SOL-MP-DRLL-DR203 -AIRSYS-COMPR-COUPL | B16: DR203 Replace Compressor Coupling | C16: 600070452 | D16: 1000100187 | E16: 90012017 | F16: C1 | G16: DR203 | H16: 8000 | I16: =IFERROR(VLOOKUP(A16,'IK17'!A:C,3,0),"") -> 50531 | J16: =IFERROR(VLOOKUP(A16,'IK17'!A:D,4,0),"") -> 1295 | K16: =IFERROR(J16/H16,"") -> 0.161875
A17: SOL-MP-DRLL-DR203 -AIRSYS-COMPR-ARTNK | B17: 12M Replace Safety PRV DR203 | C17: 600070534 | D17: 1000100188 | E17: 90012018 | F17: C1 | G17: DR203 | H17: 12 Monthly | I17: =IFERROR(VLOOKUP(A17,'IK17'!A:C,3,0),"") -> 50531 | J17: =IFERROR(VLOOKUP(A17,'IK17'!A:D,4,0),"") -> 7936 | K17: =IFERROR(J17/H17,"")
A18: SOL-MP-DRLL-DR203 -COOLER-RADTR | B18: DR203 Replace Radiator Core | C18: 600070454 | D18: 1000100189 | E18: 90012020 | F18: C1 | G18: DR203 | H18: 16000 | I18: =IFERROR(VLOOKUP(A18,'IK17'!A:C,3,0),"") -> 50531 | J18: =IFERROR(VLOOKUP(A18,'IK17'!A:D,4,0),"") -> 14431 | K18: =IFERROR(J18/H18,"") -> 0.9019375
A19: SOL-MP-DRLL-DR203 -COOLER-HDOCO | B19: DR203 Replace Hyd Oil Cooler Core | C19: 600070455 | D19: 1000100190 | E19: 90012021 | F19: C1 | G19: DR203 | H19: 16000 | I19: =IFERROR(VLOOKUP(A19,'IK17'!A:C,3,0),"") -> 50531 | J19: =IFERROR(VLOOKUP(A19,'IK17'!A:D,4,0),"") -> 14431 | K19: =IFERROR(J19/H19,"") -> 0.9019375
A20: SOL-MP-DRLL-DR203 -COOLER-COOCO | B20: DR203 Replace Comp Oil Cooler Core | C20: 600070456 | D20: 1000100191 | E20: 90012022 | F20: C1 | G20: DR203 | H20: 16000 | I20: =IFERROR(VLOOKUP(A20,'IK17'!A:C,3,0),"") -> 50531 | J20: =IFERROR(VLOOKUP(A20,'IK17'!A:D,4,0),"") -> 14445 | K20: =IFERROR(J20/H20,"") -> 0.9028125
A21: SOL-MP-DRLL-DR203 -HYDSYS-PMPDG | B21: DR203 Replace Pump Drive Gearbox | C21: 600070457 | D21: 1000100192 | E21: 90012023 | F21: C1 | G21: DR203 | H21: 12000 | I21: =IFERROR(VLOOKUP(A21,'IK17'!A:C,3,0),"") -> 50531 | J21: =IFERROR(VLOOKUP(A21,'IK17'!A:D,4,0),"") -> 14445 | K21: =IFERROR(J21/H21,"") -> 1.20375
A22: SOL-MP-DRLL-DR203 -HYDSYS-PMPDG-DRSHT | B22: DR203 Replace Pump Drive Drive Shaft | C22: 600070458 | D22: 1000100193 | E22: 90012024 | F22: C1 | G22: DR203 | H22: 6000 | I22: =IFERROR(VLOOKUP(A22,'IK17'!A:C,3,0),"") -> 50531 | J22: =IFERROR(VLOOKUP(A22,'IK17'!A:D,4,0),"") -> 5429 | K22: =IFERROR(J22/H22,"") -> 0.90483333
A23: SOL-MP-DRLL-DR203 -HYDSYS-HYDPP-MNPP1 | B23: DR203 Repl Pump Hydraulic Pos1 NCS | C23: 600070459 | D23: 1000100194 | E23: 90012025 | F23: C1 | G23: DR203 | H23: 12000 | I23: =IFERROR(VLOOKUP(A23,'IK17'!A:C,3,0),"") -> 50531 | J23: =IFERROR(VLOOKUP(A23,'IK17'!A:D,4,0),"") -> 14445 | K23: =IFERROR(J23/H23,"") -> 1.20375
A24: SOL-MP-DRLL-DR203 -HYDSYS-HYDPP-MNPP2 | B24: DR203 Repl Pump Hydraulic Pos2 Cab Side | C24: 600070460 | D24: 1000100195 | E24: 90012026 | F24: C1 | G24: DR203 | H24: 12000 | I24: =IFERROR(VLOOKUP(A24,'IK17'!A:C,3,0),"") -> 50531 | J24: =IFERROR(VLOOKUP(A24,'IK17'!A:D,4,0),"") -> 3118 | K24: =IFERROR(J24/H24,"") -> 0.25983333
A25: SOL-MP-DRLL-DR203 -HYDSYS-HYDPP-FANPP | B25: DR203 Replace Pump Hyd Gear Fan | C25: 600070461 | D25: 1000100196 | E25: 90012027 | F25: C1 | G25: DR203 | H25: 6000 | I25: =IFERROR(VLOOKUP(A25,'IK17'!A:C,3,0),"") -> 50531 | J25: =IFERROR(VLOOKUP(A25,'IK17'!A:D,4,0),"") -> 608 | K25: =IFERROR(J25/H25,"") -> 0.10133333
A26: SOL-MP-DRLL-DR203 -HYDSYS-HYDPP-GRDPP | B26: DR203 Replace Pump Hyd Gear Dbl | C26: 600070462 | D26: 1000100197 | E26: 90012028 | F26: C1 | G26: DR203 | H26: 12000 | I26: =IFERROR(VLOOKUP(A26,'IK17'!A:C,3,0),"") -> 50531 | J26: =IFERROR(VLOOKUP(A26,'IK17'!A:D,4,0),"") -> 14445 | K26: =IFERROR(J26/H26,"") -> 1.20375
A27: SOL-MP-DRLL-DR203 -HYDSYS-HDCYL-MRCYL | B27: DR203 Repl Cyl Mast RaiseNon Cab Side | C27: 600070463 | D27: 1000100198 | E27: 90012029 | F27: C1 | G27: DR203 | H27: 9000 | I27: =IFERROR(VLOOKUP(A27,'IK17'!A:C,3,0),"") -> 50531 | J27: =IFERROR(VLOOKUP(A27,'IK17'!A:D,4,0),"") -> 5436 | K27: =IFERROR(J27/H27,"") -> 0.604
A28: SOL-MP-DRLL-DR203 -HYDSYS-HDCYL-MRCYR | B28: DR203 Replace Cyl Mast Raise Cab Side | C28: 600070464 | D28: 1000100199 | E28: 90012029 | F28: C1 | G28: DR203 | H28: 9000 | I28: =IFERROR(VLOOKUP(A28,'IK17'!A:C,3,0),"") -> 50531 | J28: =IFERROR(VLOOKUP(A28,'IK17'!A:D,4,0),"") -> 5436 | K28: =IFERROR(J28/H28,"") -> 0.604
A29: SOL-MP-DRLL-DR203 -HYDSYS-HDCYL-MLCYL | B29: DR203 Repl Cyl Mast Locking Non Cab Side | C29: 600070465 | D29: 1000100200 | E29: 90012030 | F29: C1 | G29: DR203 | H29: 6000 | I29: =IFERROR(VLOOKUP(A29,'IK17'!A:C,3,0),"") -> 50531 | J29: =IFERROR(VLOOKUP(A29,'IK17'!A:D,4,0),"") -> 8551 | K29: =IFERROR(J29/H29,"") -> 1.4251667
... A70: SOL-MP-DRLL-DR203 -STRUCT-CABIN-SEATS | B70: DR203 Replace Seat Operators | C70: 600070515 | D70: 1000100250 | E70: 90012083 | F70: C1 | G70: DR203 | H70: 10000 | I70: =IFERROR(VLOOKUP(A70,'IK17'!A:C,3,0),"") -> 50531 | J70: =IFERROR(VLOOKUP(A70,'IK17'!A:D,4,0),"") -> 5436 | K70: =IFERROR(J70/H70,"") -> 0.5436
A71: SOL-MP-DRLL-DR203 | B71: DR203 12 Monthly NDT Inspection | C71: 600071744 | D71: 1000102214 | E71: 90012306 | F71: C1 | G71: DR203 | H71: 12 Monthly | I71: =IFERROR(VLOOKUP(A71,'IK17'!A:C,3,0),"") -> 50546 | J71: =IFERROR(VLOOKUP(A71,'IK17'!A:D,4,0),"") -> 50546 | K71: =IFERROR(J71/H71,"")
A72: SOL-MP-DRLL-DR203 | B72: DR203 Replace Mast Pivot Bolts and Bush | C72: 600073999 | D72: 1000105650 | E72: 90011132 | F72: C1 | G72: DR203 | H72: 5000 | I72: =IFERROR(VLOOKUP(A72,'IK17'!A:C,3,0),"") -> 50546 | J72: =IFERROR(VLOOKUP(A72,'IK17'!A:D,4,0),"") -> 50546 | K72: =IFERROR(J72/H72,"") -> 10.1092
A73: SOL-MP-DRLL-DR203 -STRUCT | B73: 6M STAT DR203 Inspect Static Line | C73: 600078353 | D73: 1000110351 | E73: 90013246 | F73: C1 | G73: DR203 | H73: 6 Monthly | I73: =IFERROR(VLOOKUP(A73,'IK17'!A:C,3,0),"") | J73: =IFERROR(VLOOKUP(A73,'IK17'!A:D,4,0),"") | K73: =IFERROR(J73/H73,"")
A74: SOL-MP-DRLL-DR203 -AIRSYS-COMPR-PNHLF | B74: DR203 Repl Inspect Air Hose Restraints | C74: 600079009 | D74: 1000111430 | E74: 90013421 | F74: C1 | G74: DR203 | H74: 12 Monthly | I74: =IFERROR(VLOOKUP(A74,'IK17'!A:C,3,0),"") | J74: =IFERROR(VLOOKUP(A74,'IK17'!A:D,4,0),"") | K74: =IFERROR(J74/H74,"")
A75: SOL-MP-DRLL-DR203 -HYDSYS-HDVLV-VVHCV | B75: DR203 Replace Hydraulic Control Valve | C75: 600082508 | D75: 1000115808 | E75: 90013918 | F75: C1 | G75: DR203 | H75: 12000 | I75: =IFERROR(VLOOKUP(A75,'IK17'!A:C,3,0),"") -> 50531 | J75: =IFERROR(VLOOKUP(A75,'IK17'!A:D,4,0),"") -> 14445 | K75: =IFERROR(J75/H75,"") -> 1.20375
A76: SOL-MP-DRLL-DR203 -HYDSYS-HDVLV-HSTCV | B76: DR203 Replace Lift Hoist Control Valve | C76: 600082510 | D76: 1000115809 | E76: 90013922 | F76: C1 | G76: DR203 | H76: 12000 | I76: =IFERROR(VLOOKUP(A76,'IK17'!A:C,3,0),"") -> 50531 | J76: =IFERROR(VLOOKUP(A76,'IK17'!A:D,4,0),"") -> 14445 | K76: =IFERROR(J76/H76,"") -> 1.20375
A77: SOL-MP-DRLL-DR203 -HYDSYS-HDVLV-VVDCV | B77: DR203 Replace Directional Control Valve | C77: 600082511 | D77: 1000115810 | E77: 90013924 | F77: C1 | G77: DR203 | H77: 12000 | I77: =IFERROR(VLOOKUP(A77,'IK17'!A:C,3,0),"") -> 50531 | J77: =IFERROR(VLOOKUP(A77,'IK17'!A:D,4,0),"") -> 14445 | K77: =IFERROR(J77/H77,"") -> 1.20375
A78: SOL-MP-DRLL-DR203 -STRUCT-DMAST-MHOBO | B78: DR203 Replace HOBO Breakout Wrench | C78: 600082512 | D78: 1000115811 | E78: 90013926 | F78: C1 | G78: DR203 | H78: 9000 | I78: =IFERROR(VLOOKUP(A78,'IK17'!A:C,3,0),"") -> 50531 | J78: =IFERROR(VLOOKUP(A78,'IK17'!A:D,4,0),"") -> 5429 | K78: =IFERROR(J78/H78,"") -> 0.60322222
A79: SOL-MP-DRLL-DR203 -STRUCT-DMAST-CSPRK | B79: DR203 Repl Drill Rod Carousel Pipe Rack | C79: 600082514 | D79: 1000115813 | E79: 90013931 | F79: C1 | G79: DR203 | H79: 18000 | I79: =IFERROR(VLOOKUP(A79,'IK17'!A:C,3,0),"") -> 50531 | J79: =IFERROR(VLOOKUP(A79,'IK17'!A:D,4,0),"") -> 50531 | K79: =IFERROR(J79/H79,"") -> 2.8072778
A80: SOL-MP-DRLL-DR203 -HYDSYS-HYDPP-ROSPP | B80: DR203 Replace ROS Pump | C80: 600082515 | D80: 1000115814 | E80: 90013933 | F80: C1 | G80: DR203 | H80: 8000 | I80: =IFERROR(VLOOKUP(A80,'IK17'!A:C,3,0),"") -> 50531 | J80: =IFERROR(VLOOKUP(A80,'IK17'!A:D,4,0),"") -> 5429 | K80: =IFERROR(J80/H80,"") -> 0.678625
A81: SOL-MP-DRLL-DR203 -ENGINE-HDHLF-TOFLL | B81: DR203 Replace Turbo Oil Feed Line | C81: 600082516 | D81: 1000115815 | E81: 90013935 | F81: C1 | G81: DR203 | H81: 4000 | I81: =IFERROR(VLOOKUP(A81,'IK17'!A:C,3,0),"") -> 50531 | J81: =IFERROR(VLOOKUP(A81,'IK17'!A:D,4,0),"") -> 14445 | K81: =IFERROR(J81/H81,"") -> 3.61125
A82: SOL-MP-DRLL-DR203 -AIRSYS-COMPR-POICA | B82: DR203 Repl Comp Poppet Intake Cartridge | C82: 600082517 | D82: 1000115816 | E82: 90013937 | F82: C1 | G82: DR203 | H82: 8000 | I82: =IFERROR(VLOOKUP(A82,'IK17'!A:C,3,0),"") -> 50531 | J82: =IFERROR(VLOOKUP(A82,'IK17'!A:D,4,0),"") -> 5429 | K82: =IFERROR(J82/H82,"") -> 0.678625
A83: SOL-MP-DRLL-DR203 -AIRSYS-COMPR-THBPV | B83: DR203 Repl Compressor Thermal Bypass Vlv | C83: 600082518 | D83: 1000115817 | E83: 90013939 | F83: C1 | G83: DR203 | H83: 3000 | I83: =IFERROR(VLOOKUP(A83,'IK17'!A:C,3,0),"") -> 50531 | J83: =IFERROR(VLOOKUP(A83,'IK17'!A:D,4,0),"") -> 5436 | K83: =IFERROR(J83/H83,"") -> 1.812
A84: SOL-MP-DRLL-DR203 -STRUCT-DMAST-MPVCP | B84: DR203 Replace Mast Pivot Cap | C84: 600082519 | D84: 1000115818 | E84: 90013941 | F84: C1 | G84: DR203 | H84: 18000 | I84: =IFERROR(VLOOKUP(A84,'IK17'!A:C,3,0),"") -> 50531 | J84: =IFERROR(VLOOKUP(A84,'IK17'!A:D,4,0),"") -> 14445 | K84: =IFERROR(J84/H84,"") -> 0.8025
A85: SOL-MP-DRLL-DR203 -STRUCT-DMAST-HDGCA | B85: DR203 Replace Head Guide Carriages | C85: 600082520 | D85: 1000115819 | E85: 90013943 | F85: C1 | G85: DR203 | H85: 18000 | I85: =IFERROR(VLOOKUP(A85,'IK17'!A:C,3,0),"") -> 50531 | J85: =IFERROR(VLOOKUP(A85,'IK17'!A:D,4,0),"") -> 5436 | K85: =IFERROR(J85/H85,"") -> 0.302
A86: SOL-MP-DRLL-DR203 -HYDSYS-HDTNK | B86: DR203 Replace Hydraulic Tank Overhaul | C86: 600082521 | D86: 1000115820 | E86: 90013945 | F86: C1 | G86: DR203 | H86: 16000 | I86: =IFERROR(VLOOKUP(A86,'IK17'!A:C,3,0),"") -> 50531 | J86: =IFERROR(VLOOKUP(A86,'IK17'!A:D,4,0),"") -> 14445 | K86: =IFERROR(J86/H86,"") -> 0.9028125
... A94: SOL-MP-DRLL-DR203 -STRUCT-DMAST-PPARM | B94: DR203 Replace Pipe Positioner | C94: 600082851 | D94: 1000116226 | E94: 90013965 | F94: C1 | G94: DR203 | H94: 8000 | I94: =IFERROR(VLOOKUP(A94,'IK17'!A:C,3,0),"") -> 50531 | J94: =IFERROR(VLOOKUP(A94,'IK17'!A:D,4,0),"") -> 5436 | K94: =IFERROR(J94/H94,"") -> 0.6795
A95: SOL-MP-DRLL-DR203 -STRUCT-CRANE | B95: 12M STAT Vehicle Crane Inspection DR203 | C95: 600084148 | D95: 1000117911 | E95: 90014145 | F95: C1 | G95: DR203 | H95: 12 Monthly | I95: =IFERROR(VLOOKUP(A95,'IK17'!A:C,3,0),"") | J95: =IFERROR(VLOOKUP(A95,'IK17'!A:D,4,0),"") | K95: =IFERROR(J95/H95,"")
A96: SOL-MP-DRLL-DR203 -STRUCT-CABIN-AIRCN | B96: DR203 Air Conditioner Maintenance | C96: 600091925 | D96: 1000129392 | E96: 90013970 | F96: C1 | G96: DR203 | H96: 12 Monthly | I96: =IFERROR(VLOOKUP(A96,'IK17'!A:C,3,0),"") | J96: =IFERROR(VLOOKUP(A96,'IK17'!A:D,4,0),"") | K96: =IFERROR(J96/H96,"")
A97: SOL-MP-DRLL-DR203 -STRUCT-DMAST-DSPAN | B97: DR203 Replace Deck Spanner | C97: 600093552 | D97: 1000131672 | E97: 90015482 | F97: C1 | G97: DR203 | H97: 2000 | I97: =IFERROR(VLOOKUP(A97,'IK17'!A:C,3,0),"") -> 50531 | J97: =IFERROR(VLOOKUP(A97,'IK17'!A:D,4,0),"") -> 3975 | K97: =IFERROR(J97/H97,"") -> 1.9875
A98: SOL-MP-DRLL-DR203 -AIRSYS-COMPR-ARTNK | B98: 24M STAT Pressure Vessel Insp DR203 | C98: 600104017 | D98: 1000145635 | E98: 90011038 | F98: C1 | G98: DR203 | H98: 24 Monthly | I98: =IFERROR(VLOOKUP(A98,'IK17'!A:C,3,0),"") -> 50531 | J98: =IFERROR(VLOOKUP(A98,'IK17'!A:D,4,0),"") -> 7936 | K98: =IFERROR(J98/H98,"")
A99: SOL-MP-DRLL-DR203 -HYDSYS | B99: DR203 Replace Hyraulic Tune to OEM Spec | C99: 600109744 | D99: 1000153007 | E99: 90017113 | F99: C1 | G99: DR203 | H99: 3000 | I99: =IFERROR(VLOOKUP(A99,'IK17'!A:C,3,0),"") -> 50531 | J99: =IFERROR(VLOOKUP(A99,'IK17'!A:D,4,0),"") -> 3329 | K99: =IFERROR(J99/H99,"") -> 1.1096667
A100: SOL-MP-DRLL-DR203 -STRUCT-CRANE | B100: 10Y Vehicle Crane - Replace | C100: 600164482 | D100: 1000253930 | E100: 90020033 | F100: C2 | G100: DR203 | H100: 120 Monthly | I100: =IFERROR(VLOOKUP(A100,'IK17'!A:C,3,0),"") | J100: =IFERROR(VLOOKUP(A100,'IK17'!A:D,4,0),"") | K100: =IFERROR(J100/H100,"")

Sheet IK17
A1: Functional Loc. | B1: Description | C1: Meas/TotCtrRdg | D1: Counter reading | E1: AnnualEstimate
A2: SOL-MP-DRLL-DR203 | B2: Bucyrus SKSS-W Drill. DR203 | C2: 50546 | D2: 50546 | E2: 5700
A3: SOL-MP-DRLL-DR203 | B3: DR203 Mechanical & Lube Services | C3: 50546 | D3: 50546 | E3: 5700
A4: SOL-MP-DRLL-DR203 -ENGINE | B4: DR203 Engine Assembly. Cummins QST30 | C4: 50546 | D4: 14460 | E4: 5700
A5: SOL-MP-DRLL-DR203 -ENGINE-COSYS-THERM | B5: DR203 Thermostats / Regulators Engine | C5: 50531 | D5: 5418 | E5: 5700
A6: SOL-MP-DRLL-DR203 -ENGINE-INTEX-TBOP1 | B6: DR203 Turbocharger Engine Pos 1 | C6: 50531 | D6: 5463 | E6: 5700
A7: SOL-MP-DRLL-DR203 -ENGINE-INTEX-TBOP2 | B7: DR203 Turbocharger Engine pos 2 | C7: 50531 | D7: 5463 | E7: 5700
A8: SOL-MP-DRLL-DR203 -ENGINE-FUSYS-FUINJ | B8: DR203 Fuel Injectors Engine | C8: 50531 | D8: 5418 | E8: 5700
A9: SOL-MP-DRLL-DR203 -ELCTLV-CHARG-ALTER | B9: DR203 Alternator 24V | C9: 50531 | D9: 5429 | E9: 5700
A10: SOL-MP-DRLL-DR203 -ELCTLV-START-STMLH | B10: DR203 Starter Motor Engine Left | C10: 50531 | D10: 11291 | E10: 5700
A11: SOL-MP-DRLL-DR203 -ELCTLV-START-STMRH | B11: DR203 Starter Motor Engine Right | C11: 50531 | D11: 11291 | E11: 5700
A12: SOL-MP-DRLL-DR203 -TRAVEL-FDRLH | B12: DR203 Final Drive L/H | C12: 50546 | D12: 5451 | E12: 5700
A13: SOL-MP-DRLL-DR203 -TRAVEL-TRBKL | B13: DR203 Travel Brake L/H | C13: 50546 | D13: 5451 | E13: 5700
... A95: SOL-MP-DRLL-DR203 -HYDSYS | B95: DR203 Hyraulic Tune | C95: 50531 | D95: 3329 | E95: 5700
